BEGIN:VCALENDAR
VERSION:2.0
CALSCALE:GREGORIAN
PRODID:-//Diputació de Barcelona//DibaCMS//EN
BEGIN:VEVENT
UID:20951
DTSTAMP:20260426T003838
DTSTART:20200130T190000
DTEND:20200130T190000
SUMMARY:Taller de risoteràpia a càrrec de Pilar Lozano
LOCATION:C. de Font i Boet 7 8140 Caldes de Montbui
METHOD:PUBLISH
X-WR-CALNAME:caldesm@caldesdemontbui.cat
X-WR-TIMEZONE:Europe/Madrid
DESCRIPTION:
URI:https://www.caldesdemontbui.cat/actualitat/agenda/taller-de-risoterapia-a-carrec-de-pilar-lozano.html
CLASS:PUBLIC
END:VEVENT
END:VCALENDAR
