BEGIN:VCALENDAR
VERSION:2.0
CALSCALE:GREGORIAN
PRODID:-//Diputació de Barcelona//DibaCMS//EN
BEGIN:VEVENT
UID:20943
DTSTAMP:20260426T003715
DTSTART:20200122T190000
DTEND:20200122T190000
SUMMARY:Xerrada "Què vols saber del Parkinson?"
LOCATION:C.Sentmenat, 6 8140 Caldes de Montbui
METHOD:PUBLISH
X-WR-CALNAME:caldesm@caldesdemontbui.cat
X-WR-TIMEZONE:Europe/Madrid
DESCRIPTION:Cicle com podem millorar la nostra salut 

URI:https://www.caldesdemontbui.cat/actualitat/agenda/xerrada-que-vols-saber-del-parkinson.html
CLASS:PUBLIC
END:VEVENT
END:VCALENDAR
