BEGIN:VCALENDAR
VERSION:2.0
CALSCALE:GREGORIAN
PRODID:-//Diputació de Barcelona//DibaCMS//EN
BEGIN:VEVENT
UID:20942
DTSTAMP:20260426T003746
DTSTART:20200122T160000
DTEND:20200122T160000
SUMMARY:Història de les dones, les invisible a càrrec de Mercè Borràs
LOCATION:Buenos Aires, 16-18 08140 Caldes de Montbui
METHOD:PUBLISH
X-WR-CALNAME:caldesm@caldesdemontbui.cat
X-WR-TIMEZONE:Europe/Madrid
DESCRIPTION:
URI:https://www.caldesdemontbui.cat/actualitat/agenda/historia-de-les-dones-les-invisible-a-carrec-de-merce-borras.html
CLASS:PUBLIC
END:VEVENT
END:VCALENDAR
