BEGIN:VCALENDAR
VERSION:2.0
CALSCALE:GREGORIAN
PRODID:-//Diputació de Barcelona//DibaCMS//EN
BEGIN:VEVENT
UID:20941
DTSTAMP:20260426T020847
DTSTART:20200122T090000
DTEND:20200122T090000
SUMMARY:Caminada "A cent cap als cent" amb els pobles convidats
LOCATION:C. Mestre Gregori Montserrat, 4 08140 Caldes de Montbui
METHOD:PUBLISH
X-WR-CALNAME:caldesm@caldesdemontbui.cat
X-WR-TIMEZONE:Europe/Madrid
DESCRIPTION:
URI:https://www.caldesdemontbui.cat/actualitat/agenda/caminada-a-cent-cap-als-cent-amb-els-pobles-convidats.html
CLASS:PUBLIC
END:VEVENT
END:VCALENDAR
