BEGIN:VCALENDAR
VERSION:2.0
CALSCALE:GREGORIAN
PRODID:-//Diputació de Barcelona//DibaCMS//EN
BEGIN:VEVENT
UID:20940
DTSTAMP:20260426T004720
DTSTART:20200118T180000
DTEND:20200118T180000
SUMMARY:Teatre "Pare als 60" i "Un matrimonio en apuros" a càrec dels Grups Germanor i Alegria
LOCATION:C. Mestre Gregori Montserrat, 4 08140 Caldes de Montbui
METHOD:PUBLISH
X-WR-CALNAME:caldesm@caldesdemontbui.cat
X-WR-TIMEZONE:Europe/Madrid
DESCRIPTION:
URI:https://www.caldesdemontbui.cat/actualitat/agenda/teatre-pare-als-60-i-un-matrimonio-en-apuros-a-carec-dels-grups-germanor-i-alegria.html
CLASS:PUBLIC
END:VEVENT
END:VCALENDAR
