BEGIN:VCALENDAR
VERSION:2.0
CALSCALE:GREGORIAN
PRODID:-//Diputació de Barcelona//DibaCMS//EN
BEGIN:VEVENT
UID:20939
DTSTAMP:20260426T003801
DTSTART:20200118T200000
DTEND:20200118T200000
SUMMARY:Lucia Fumero i Horacio Fumero duo
LOCATION: Corredossos de Baix, 9-11 (antic 1) 8140 Caldes de Montbui
METHOD:PUBLISH
X-WR-CALNAME:caldesm@caldesdemontbui.cat
X-WR-TIMEZONE:Europe/Madrid
DESCRIPTION:
URI:https://www.caldesdemontbui.cat/actualitat/agenda/lucia-fumero-i-horacio-fumero-duo.html
CLASS:PUBLIC
END:VEVENT
END:VCALENDAR
