BEGIN:VCALENDAR
VERSION:2.0
CALSCALE:GREGORIAN
PRODID:-//Diputació de Barcelona//DibaCMS//EN
BEGIN:VEVENT
UID:20933
DTSTAMP:20260425T230535
DTSTART:20200123T203000
DTEND:20200123T203000
SUMMARY:Tast de lletres. Sopar- conferència "Dormir bé és viure millor"
LOCATION:
METHOD:PUBLISH
X-WR-CALNAME:caldesm@caldesdemontbui.cat
X-WR-TIMEZONE:Europe/Madrid
DESCRIPTION:
URI:https://www.caldesdemontbui.cat/actualitat/agenda/tast-de-lletres-sopar-conferencia-dormir-be-es-viure-millor.html
CLASS:PUBLIC
END:VEVENT
END:VCALENDAR
