BEGIN:VCALENDAR
VERSION:2.0
CALSCALE:GREGORIAN
PRODID:-//Diputació de Barcelona//DibaCMS//EN
BEGIN:VEVENT
UID:20927
DTSTAMP:20260425T230749
DTSTART:20200126T120000
DTEND:20200126T120000
SUMMARY:Visita guiada a l’exposició «1886-2019. La premsa calderina. Passió per informar (malgrat tot)»
LOCATION:Plaça de la Font del Lleó, 20 08140 Caldes de Montbui
METHOD:PUBLISH
X-WR-CALNAME:caldesm@caldesdemontbui.cat
X-WR-TIMEZONE:Europe/Madrid
DESCRIPTION:
URI:https://www.caldesdemontbui.cat/actualitat/agenda/20927-visita-guiada-a-lexposicio-1886-2019-la-premsa-calderina-passio-per-informar-malgrat-tot.html
CLASS:PUBLIC
END:VEVENT
END:VCALENDAR
