BEGIN:VCALENDAR
VERSION:2.0
CALSCALE:GREGORIAN
PRODID:-//Diputació de Barcelona//DibaCMS//EN
BEGIN:VEVENT
UID:20902
DTSTAMP:20260426T011710
DTSTART:20200318T190000
DTEND:20200318T190000
SUMMARY:Conferència " Arquitectura sostenible"
LOCATION:Carrer del Pont, 3 08140 Caldes de Montbui
METHOD:PUBLISH
X-WR-CALNAME:caldesm@caldesdemontbui.cat
X-WR-TIMEZONE:Europe/Madrid
DESCRIPTION:
URI:https://www.caldesdemontbui.cat/actualitat/agenda/conferencia--arquitectura-sostenible.html
CLASS:PUBLIC
END:VEVENT
END:VCALENDAR
