BEGIN:VCALENDAR
VERSION:2.0
CALSCALE:GREGORIAN
PRODID:-//Diputació de Barcelona//DibaCMS//EN
BEGIN:VEVENT
UID:20833
DTSTAMP:20260426T020755
DTSTART:20191224T180000
DTEND:20191224T180000
SUMMARY:Nadal 2019/2020. Missa del  pollet
LOCATION:Plaça de l'Església, 12 08140 Caldes de Montbui
METHOD:PUBLISH
X-WR-CALNAME:caldesm@caldesdemontbui.cat
X-WR-TIMEZONE:Europe/Madrid
DESCRIPTION:
URI:https://www.caldesdemontbui.cat/actualitat/agenda/nadal-20192020-missa-del-pollet.html
CLASS:PUBLIC
END:VEVENT
END:VCALENDAR
