BEGIN:VCALENDAR
VERSION:2.0
CALSCALE:GREGORIAN
PRODID:-//Diputació de Barcelona//DibaCMS//EN
BEGIN:VEVENT
UID:20823
DTSTAMP:20260426T020920
DTSTART:20191223T170000
DTEND:20191223T200000
SUMMARY:Nadal 2019/2020. Taller “Arbre de Nadal i postals de Nadal”
LOCATION:C. Mestre Gregori Montserrat, 4 08140 Caldes de Montbui
METHOD:PUBLISH
X-WR-CALNAME:caldesm@caldesdemontbui.cat
X-WR-TIMEZONE:Europe/Madrid
DESCRIPTION:
URI:https://www.caldesdemontbui.cat/actualitat/agenda/nadal-20192020-taller-arbre-de-nadal-i-postals-de-nadal.html
CLASS:PUBLIC
END:VEVENT
END:VCALENDAR
