BEGIN:VCALENDAR
VERSION:2.0
CALSCALE:GREGORIAN
PRODID:-//Diputació de Barcelona//DibaCMS//EN
BEGIN:VEVENT
UID:20821
DTSTAMP:20260426T052425
DTSTART:20191220T170000
DTEND:20191220T170000
SUMMARY:Nadal 2019/2020.Festa d’hivern i Nadal a les escoles bressol municipals
LOCATION:
METHOD:PUBLISH
X-WR-CALNAME:caldesm@caldesdemontbui.cat
X-WR-TIMEZONE:Europe/Madrid
DESCRIPTION:
URI:https://www.caldesdemontbui.cat/actualitat/agenda/nadal-20192020festa-dhivern-i-nadal-a-les-escoles-bressol-municipals.html
CLASS:PUBLIC
END:VEVENT
END:VCALENDAR
