BEGIN:VCALENDAR
VERSION:2.0
CALSCALE:GREGORIAN
PRODID:-//Diputació de Barcelona//DibaCMS//EN
BEGIN:VEVENT
UID:20818
DTSTAMP:20260426T020905
DTSTART:20191216T173000
DTEND:20191216T173000
SUMMARY:Nadal 2019/2020. Nadales al vestíbul dels grups de Llenguatge Musical
LOCATION:Buenos Aires, 16 08140 Caldes de Montbui
METHOD:PUBLISH
X-WR-CALNAME:caldesm@caldesdemontbui.cat
X-WR-TIMEZONE:Europe/Madrid
DESCRIPTION:
URI:https://www.caldesdemontbui.cat/actualitat/agenda/20818-nadal-20192020-nadales-al-vestibul-dels-grups-de-llenguatge-musical.html
CLASS:PUBLIC
END:VEVENT
END:VCALENDAR
