BEGIN:VCALENDAR
VERSION:2.0
CALSCALE:GREGORIAN
PRODID:-//Diputació de Barcelona//DibaCMS//EN
BEGIN:VEVENT
UID:20812
DTSTAMP:20260426T052506
DTSTART:20191211T174500
DTEND:20191211T174500
SUMMARY:Nadal 2019/2020. Assaig obert de l’Orquestra Infantil 
LOCATION:Buenos Aires, 16 08140 Caldes de Montbui
METHOD:PUBLISH
X-WR-CALNAME:caldesm@caldesdemontbui.cat
X-WR-TIMEZONE:Europe/Madrid
DESCRIPTION:
URI:https://www.caldesdemontbui.cat/actualitat/agenda/nadal-20192020-assaig-obert-de-lorquestra-infantil-.html
CLASS:PUBLIC
END:VEVENT
END:VCALENDAR
