BEGIN:VCALENDAR
VERSION:2.0
CALSCALE:GREGORIAN
PRODID:-//Diputació de Barcelona//DibaCMS//EN
BEGIN:VEVENT
UID:20794
DTSTAMP:20260426T053136
DTSTART:20191211T160000
DTEND:20191211T160000
SUMMARY:"Trencant tòpics" a càrrec d'Èlia Romo
LOCATION:Buenos Aires, 16-18 08140 Caldes de Montbui
METHOD:PUBLISH
X-WR-CALNAME:caldesm@caldesdemontbui.cat
X-WR-TIMEZONE:Europe/Madrid
DESCRIPTION:
URI:https://www.caldesdemontbui.cat/actualitat/agenda/trencant-topics-a-carrec-delia-romo.html
CLASS:PUBLIC
END:VEVENT
END:VCALENDAR
