BEGIN:VCALENDAR
VERSION:2.0
CALSCALE:GREGORIAN
PRODID:-//Diputació de Barcelona//DibaCMS//EN
BEGIN:VEVENT
UID:20793
DTSTAMP:20260426T053036
DTSTART:20191211T080000
DTEND:20191211T080000
SUMMARY:Caminada a Palau i visita als pessebres
LOCATION:C. Mestre Gregori Montserrat, 4 08140 Caldes de Montbui
METHOD:PUBLISH
X-WR-CALNAME:caldesm@caldesdemontbui.cat
X-WR-TIMEZONE:Europe/Madrid
DESCRIPTION:
URI:https://www.caldesdemontbui.cat/actualitat/agenda/20793-caminada-a-palau-i-visita-als-pessebres.html
CLASS:PUBLIC
END:VEVENT
END:VCALENDAR
