BEGIN:VCALENDAR
VERSION:2.0
CALSCALE:GREGORIAN
PRODID:-//Diputació de Barcelona//DibaCMS//EN
BEGIN:VEVENT
UID:20790
DTSTAMP:20260426T052553
DTSTART:20191209T000000
DTEND:20191209T000000
SUMMARY:Nadal 2019-2020. Musical solidari Caldes 2019: Junts som imparables
LOCATION:
METHOD:PUBLISH
X-WR-CALNAME:caldesm@caldesdemontbui.cat
X-WR-TIMEZONE:Europe/Madrid
DESCRIPTION:
URI:https://www.caldesdemontbui.cat/actualitat/agenda/nadal-2019-2020-musical-solidari-caldes-2019-junts-som-imparables.html
CLASS:PUBLIC
END:VEVENT
END:VCALENDAR
