BEGIN:VCALENDAR
VERSION:2.0
CALSCALE:GREGORIAN
PRODID:-//Diputació de Barcelona//DibaCMS//EN
BEGIN:VEVENT
UID:20782
DTSTAMP:20260426T020932
DTSTART:20191220T180000
DTEND:20191220T180000
SUMMARY:Nadal 2019/2020. Concert de Nadal a càrrec de l’aula de violoncel, cant i guitarra
LOCATION:Buenos Aires, 16 08140 Caldes de Montbui
METHOD:PUBLISH
X-WR-CALNAME:caldesm@caldesdemontbui.cat
X-WR-TIMEZONE:Europe/Madrid
DESCRIPTION:
URI:https://www.caldesdemontbui.cat/actualitat/agenda/nadal-20192020-concert-de-nadal-a-carrec-de-laula-de-violoncel-cant-i-guitarra.html
CLASS:PUBLIC
END:VEVENT
END:VCALENDAR
