BEGIN:VCALENDAR
VERSION:2.0
CALSCALE:GREGORIAN
PRODID:-//Diputació de Barcelona//DibaCMS//EN
BEGIN:VEVENT
UID:20779
DTSTAMP:20260426T054730
DTSTART:20191211T173000
DTEND:20191211T173000
SUMMARY:Activitats de l’Escola de Municipal de Música Joan Valls del mes de desembre
LOCATION:Buenos Aires, 16 08140 Caldes de Montbui
METHOD:PUBLISH
X-WR-CALNAME:caldesm@caldesdemontbui.cat
X-WR-TIMEZONE:Europe/Madrid
DESCRIPTION:
URI:https://www.caldesdemontbui.cat/actualitat/agenda/20779-activitats-de-lescola-de-municipal-de-musica-joan-valls-del-mes-de-desembre.html
CLASS:PUBLIC
END:VEVENT
END:VCALENDAR
