BEGIN:VCALENDAR
VERSION:2.0
CALSCALE:GREGORIAN
PRODID:-//Diputació de Barcelona//DibaCMS//EN
BEGIN:VEVENT
UID:20776
DTSTAMP:20260426T055030
DTSTART:20191211T193000
DTEND:20191211T193000
SUMMARY:Taula ronda “El paper dels mitjans de proximitat, avui”
LOCATION:Plaça de la Font del Lleó, 20 08140 Caldes de Montbui
METHOD:PUBLISH
X-WR-CALNAME:caldesm@caldesdemontbui.cat
X-WR-TIMEZONE:Europe/Madrid
DESCRIPTION:
URI:https://www.caldesdemontbui.cat/actualitat/agenda/taula-ronda-el-paper-dels-mitjans-de-proximitat-avui.html
CLASS:PUBLIC
END:VEVENT
END:VCALENDAR
