BEGIN:VCALENDAR
VERSION:2.0
CALSCALE:GREGORIAN
PRODID:-//Diputació de Barcelona//DibaCMS//EN
BEGIN:VEVENT
UID:20767
DTSTAMP:20260426T035123
DTSTART:20191204T130000
DTEND:20191209T210000
SUMMARY:Exposició “Geografies literàries” de José Luís Sampedro, fins al 9 de desembre
LOCATION:Santa Teresa, 3-5 08140 Caldes de Montbui
METHOD:PUBLISH
X-WR-CALNAME:caldesm@caldesdemontbui.cat
X-WR-TIMEZONE:Europe/Madrid
DESCRIPTION:
URI:https://www.caldesdemontbui.cat/actualitat/agenda/exposicio-geografies-literaries-de-jose-luis-sampedro-fins-al-9-de-desembre.html
CLASS:PUBLIC
END:VEVENT
END:VCALENDAR
