BEGIN:VCALENDAR
VERSION:2.0
CALSCALE:GREGORIAN
PRODID:-//Diputació de Barcelona//DibaCMS//EN
BEGIN:VEVENT
UID:20765
DTSTAMP:20260426T034834
DTSTART:20191204T124500
DTEND:20200103T210000
SUMMARY:Biblioutlet per la campanya “Fer feliç un infant donant una joguina” de la Creu Roja, fins al 3 de gener
LOCATION:Santa Teresa, 3-5 08140 Caldes de Montbui
METHOD:PUBLISH
X-WR-CALNAME:caldesm@caldesdemontbui.cat
X-WR-TIMEZONE:Europe/Madrid
DESCRIPTION:
URI:https://www.caldesdemontbui.cat/actualitat/agenda/biblioutlet-per-la-campanya-fer-felic-un-infant-donant-una-joguina-de-la-creu-roja-fins-al-3-de-gener.html
CLASS:PUBLIC
END:VEVENT
END:VCALENDAR
