BEGIN:VCALENDAR
VERSION:2.0
CALSCALE:GREGORIAN
PRODID:-//Diputació de Barcelona//DibaCMS//EN
BEGIN:VEVENT
UID:20760
DTSTAMP:20260426T034941
DTSTART:20191223T100000
DTEND:20191223T133000
SUMMARY:Parc Infantil de Nadal 2019
LOCATION:C. de Font i Boet, 4 08140 Caldes de Montbui
METHOD:PUBLISH
X-WR-CALNAME:caldesm@caldesdemontbui.cat
X-WR-TIMEZONE:Europe/Madrid
DESCRIPTION:
URI:https://www.caldesdemontbui.cat/actualitat/agenda/parc-infantil-de-nadal-2019.html
CLASS:PUBLIC
END:VEVENT
END:VCALENDAR
