BEGIN:VCALENDAR
VERSION:2.0
CALSCALE:GREGORIAN
PRODID:-//Diputació de Barcelona//DibaCMS//EN
BEGIN:VEVENT
UID:20749
DTSTAMP:20260426T052334
DTSTART:20191129T190000
DTEND:20191129T190000
SUMMARY:Inauguració de l'exposició “BIsions” de Carles Canals i Àlex Monfort, del 25 de novembre al 15 de desembre a la Sala Delger 
LOCATION:Carrer del Forn, 8bis 08140 Caldes de Montbui
METHOD:PUBLISH
X-WR-CALNAME:caldesm@caldesdemontbui.cat
X-WR-TIMEZONE:Europe/Madrid
DESCRIPTION:
URI:https://www.caldesdemontbui.cat/actualitat/agenda/inauguracio-de-lexposicio-bisions-de-carles-canals-i-alex-monfort-del-25-de-novembre-al-15-de-desembre-a-la-sala-delger-.html
CLASS:PUBLIC
END:VEVENT
END:VCALENDAR
