BEGIN:VCALENDAR
VERSION:2.0
CALSCALE:GREGORIAN
PRODID:-//Diputació de Barcelona//DibaCMS//EN
BEGIN:VEVENT
UID:20734
DTSTAMP:20260426T052318
DTSTART:20191201T170000
DTEND:20191201T210000
SUMMARY:34a. Fira de Nadal. Activitats infantils de temàtica nadalenca i espai de joc lliure i creatiu.
LOCATION:
METHOD:PUBLISH
X-WR-CALNAME:caldesm@caldesdemontbui.cat
X-WR-TIMEZONE:Europe/Madrid
DESCRIPTION:
URI:https://www.caldesdemontbui.cat/actualitat/agenda/20734-34a-fira-de-nadal-activitats-infantils-de-tematica-nadalenca-i-espai-de-joc-lliure-i-creatiu.html
CLASS:PUBLIC
END:VEVENT
END:VCALENDAR
