BEGIN:VCALENDAR
VERSION:2.0
CALSCALE:GREGORIAN
PRODID:-//Diputació de Barcelona//DibaCMS//EN
BEGIN:VEVENT
UID:20730
DTSTAMP:20260426T052247
DTSTART:20191201T120000
DTEND:20191201T120000
SUMMARY:34a. Fira de Nadal. Celebració de la popular festa del tió. Farem cagar el tió
LOCATION:
METHOD:PUBLISH
X-WR-CALNAME:caldesm@caldesdemontbui.cat
X-WR-TIMEZONE:Europe/Madrid
DESCRIPTION:
URI:https://www.caldesdemontbui.cat/actualitat/agenda/34a-fira-de-nadal-celebracio-de-la-popular-festa-del-tio-farem-cagar-el-tio.html
CLASS:PUBLIC
END:VEVENT
END:VCALENDAR
