BEGIN:VCALENDAR
VERSION:2.0
CALSCALE:GREGORIAN
PRODID:-//Diputació de Barcelona//DibaCMS//EN
BEGIN:VEVENT
UID:20728
DTSTAMP:20260426T035012
DTSTART:20191201T100000
DTEND:20191201T130000
SUMMARY:34a. Fira de Nadal. Taller infantil de manualitats nadalenques, a càrrec de l'Esplai Grifoll.
LOCATION:
METHOD:PUBLISH
X-WR-CALNAME:caldesm@caldesdemontbui.cat
X-WR-TIMEZONE:Europe/Madrid
DESCRIPTION:
URI:https://www.caldesdemontbui.cat/actualitat/agenda/34a-fira-de-nadal-taller-infantil-de-manualitats-nadalenques-a-carrec-de-lesplai-grifoll.html
CLASS:PUBLIC
END:VEVENT
END:VCALENDAR
