BEGIN:VCALENDAR
VERSION:2.0
CALSCALE:GREGORIAN
PRODID:-//Diputació de Barcelona//DibaCMS//EN
BEGIN:VEVENT
UID:20724
DTSTAMP:20260426T035042
DTSTART:20191130T190000
DTEND:20191130T190000
SUMMARY:34a. Fira de Nadal. Una nit de swing, Rizando el rizo: 
LOCATION:Carrer del Pont, 3 08140 Caldes de Montbui
METHOD:PUBLISH
X-WR-CALNAME:caldesm@caldesdemontbui.cat
X-WR-TIMEZONE:Europe/Madrid
DESCRIPTION:
URI:https://www.caldesdemontbui.cat/actualitat/agenda/34a-fira-de-nadal-una-nit-de-swing-rizando-el-rizo-.html
CLASS:PUBLIC
END:VEVENT
END:VCALENDAR
