BEGIN:VCALENDAR
VERSION:2.0
CALSCALE:GREGORIAN
PRODID:-//Diputació de Barcelona//DibaCMS//EN
BEGIN:VEVENT
UID:20717
DTSTAMP:20260426T052435
DTSTART:20191130T100000
DTEND:20191130T210000
SUMMARY:34a. Fira de Nadal. Tradicional Fira de Nadal i Mercat d'Artesans
LOCATION:
METHOD:PUBLISH
X-WR-CALNAME:caldesm@caldesdemontbui.cat
X-WR-TIMEZONE:Europe/Madrid
DESCRIPTION:
URI:https://www.caldesdemontbui.cat/actualitat/agenda/34a-fira-de-nadal-tradicional-fira-de-nadal-i-mercat-dartesans.html
CLASS:PUBLIC
END:VEVENT
END:VCALENDAR
