BEGIN:VCALENDAR
VERSION:2.0
CALSCALE:GREGORIAN
PRODID:-//Diputació de Barcelona//DibaCMS//EN
BEGIN:VEVENT
UID:20694
DTSTAMP:20260426T052452
DTSTART:20191128T193000
DTEND:20191128T193000
SUMMARY:Xerrada informativa sobre el Consell de la República
LOCATION:Carrer del Pont, 3 08140 Caldes de Montbui
METHOD:PUBLISH
X-WR-CALNAME:caldesm@caldesdemontbui.cat
X-WR-TIMEZONE:Europe/Madrid
DESCRIPTION:
URI:https://www.caldesdemontbui.cat/actualitat/agenda/xerrada-informativa-sobre-el-consell-de-la-republica.html
CLASS:PUBLIC
END:VEVENT
END:VCALENDAR
