BEGIN:VCALENDAR
VERSION:2.0
CALSCALE:GREGORIAN
PRODID:-//Diputació de Barcelona//DibaCMS//EN
BEGIN:VEVENT
UID:20638
DTSTAMP:20260426T053230
DTSTART:20191127T160000
DTEND:20191127T160000
SUMMARY:L'aniversari de Leonardo Da Vinci a càrrec de Rosa Ribas (Historiadora de l'art)
LOCATION:Buenos Aires, 16-18 08140 Caldes de Montbui
METHOD:PUBLISH
X-WR-CALNAME:caldesm@caldesdemontbui.cat
X-WR-TIMEZONE:Europe/Madrid
DESCRIPTION:
URI:https://www.caldesdemontbui.cat/actualitat/agenda/laniversari-de-leonardo-da-vinci-a-carrec-de-rosa-ribas-historiadora-de-lart.html
CLASS:PUBLIC
END:VEVENT
END:VCALENDAR
