BEGIN:VCALENDAR
VERSION:2.0
CALSCALE:GREGORIAN
PRODID:-//Diputació de Barcelona//DibaCMS//EN
BEGIN:VEVENT
UID:20628
DTSTAMP:20260423T040206
DTSTART:20191113T160000
DTEND:20191113T160000
SUMMARY:Bingoaliment
LOCATION:Buenos Aires, 16-18 08140 Caldes de Montbui
METHOD:PUBLISH
X-WR-CALNAME:caldesm@caldesdemontbui.cat
X-WR-TIMEZONE:Europe/Madrid
DESCRIPTION:
URI:https://www.caldesdemontbui.cat/actualitat/agenda/20628-bingoaliment.html
CLASS:PUBLIC
END:VEVENT
END:VCALENDAR
