BEGIN:VCALENDAR
VERSION:2.0
CALSCALE:GREGORIAN
PRODID:-//Diputació de Barcelona//DibaCMS//EN
BEGIN:VEVENT
UID:20532
DTSTAMP:20260420T123058
DTSTART:20191020T100000
DTEND:20191020T140000
SUMMARY:Fira d’antiquaris. Octubre de 2019
LOCATION:
METHOD:PUBLISH
X-WR-CALNAME:caldesm@caldesdemontbui.cat
X-WR-TIMEZONE:Europe/Madrid
DESCRIPTION:
URI:https://www.caldesdemontbui.cat/actualitat/agenda/fira-dantiquaris-octubre-de-2019.html
CLASS:PUBLIC
END:VEVENT
END:VCALENDAR
