BEGIN:VCALENDAR
VERSION:2.0
CALSCALE:GREGORIAN
PRODID:-//Diputació de Barcelona//DibaCMS//EN
BEGIN:VEVENT
UID:19425
DTSTAMP:20260425T130704
DTSTART:20190204T080000
DTEND:20190306T213200
SUMMARY:Exposició itinerant “10 anys de Pla de Barris”. A partir del 4 de febrer al vestíbul de l’Ajuntament de Caldes de Montbui
LOCATION:
METHOD:PUBLISH
X-WR-CALNAME:caldesm@caldesdemontbui.cat
X-WR-TIMEZONE:Europe/Madrid
DESCRIPTION:
URI:https://www.caldesdemontbui.cat/actualitat/agenda/exposicio-itinerant-10-anys-de-pla-de-barris-a-partir-del-4-de-febrer-al-vestibul-de-lajuntament-de-caldes-de-montbui.html
CLASS:PUBLIC
END:VEVENT
END:VCALENDAR
