BEGIN:VCALENDAR
VERSION:2.0
CALSCALE:GREGORIAN
PRODID:-//Diputació de Barcelona//DibaCMS//EN
BEGIN:VEVENT
UID:19423
DTSTAMP:20260425T122250
DTSTART:20190121T170000
DTEND:20190203T220000
SUMMARY:Exposició itinerant “10 anys de Pla de Barris”. Del 21 de gener al 3 de febrer al Pavelló Municipal d’Esports Les Cremades
LOCATION:
METHOD:PUBLISH
X-WR-CALNAME:caldesm@caldesdemontbui.cat
X-WR-TIMEZONE:Europe/Madrid
DESCRIPTION:
URI:https://www.caldesdemontbui.cat/actualitat/agenda/exposicio-itinerant-10-anys-de-pla-de-barris-del-21-de-gener-al-3-de-febrer-al-pavello-municipal-desports-les-cremades.html
CLASS:PUBLIC
END:VEVENT
END:VCALENDAR
