BEGIN:VCALENDAR
VERSION:2.0
CALSCALE:GREGORIAN
PRODID:-//Diputació de Barcelona//DibaCMS//EN
BEGIN:VEVENT
UID:10721
DTSTAMP:20260420T201713
DTSTART:20131028T190000
DTEND:20131028T190000
SUMMARY:Club de lectura. Xerrada sobre l'obra de Simon de Beuavoir, Les belles imatges
LOCATION:08140 Caldes de Montbui
METHOD:PUBLISH
X-WR-CALNAME:caldesm@caldesdemontbui.cat
X-WR-TIMEZONE:Europe/Madrid
DESCRIPTION:
URI:https://www.caldesdemontbui.cat/actualitat/agenda/club-de-lectura-xerrada-sobre-lobra-de-simon-de-beuavoir-les-belles-imatges.html
CLASS:PUBLIC
END:VEVENT
END:VCALENDAR
